BEGIN:VCALENDAR
VERSION:2.0
PRODID:-//Library Market//iCal Export//EN
BEGIN:VEVENT
SUMMARY:Fundraising Committee
UID:5269
DTSTAMP:20260424T065400Z
DTSTART:20260512T130000Z
DTEND:20260512T180000Z
LOCATION:502 W. Main St., Owosso, MI 48867, United States
ROOM: Meeting Room
DESCRIPTION:
URL:https://www.mysdl.org/event/fundraising-committee-5269
END:VEVENT
END:VCALENDAR
